BEGIN:VCALENDAR
VERSION:2.0
PRODID:-//The Maridon Museum - ECPv6.15.17//NONSGML v1.0//EN
CALSCALE:GREGORIAN
METHOD:PUBLISH
X-ORIGINAL-URL:https://maridon.org
X-WR-CALDESC:Events for The Maridon Museum
REFRESH-INTERVAL;VALUE=DURATION:PT1H
X-Robots-Tag:noindex
X-PUBLISHED-TTL:PT1H
BEGIN:VTIMEZONE
TZID:America/New_York
BEGIN:DAYLIGHT
TZOFFSETFROM:-0500
TZOFFSETTO:-0400
TZNAME:EDT
DTSTART:20240310T070000
END:DAYLIGHT
BEGIN:STANDARD
TZOFFSETFROM:-0400
TZOFFSETTO:-0500
TZNAME:EST
DTSTART:20241103T060000
END:STANDARD
BEGIN:DAYLIGHT
TZOFFSETFROM:-0500
TZOFFSETTO:-0400
TZNAME:EDT
DTSTART:20250309T070000
END:DAYLIGHT
BEGIN:STANDARD
TZOFFSETFROM:-0400
TZOFFSETTO:-0500
TZNAME:EST
DTSTART:20251102T060000
END:STANDARD
BEGIN:DAYLIGHT
TZOFFSETFROM:-0500
TZOFFSETTO:-0400
TZNAME:EDT
DTSTART:20260308T070000
END:DAYLIGHT
BEGIN:STANDARD
TZOFFSETFROM:-0400
TZOFFSETTO:-0500
TZNAME:EST
DTSTART:20261101T060000
END:STANDARD
END:VTIMEZONE
BEGIN:VEVENT
DTSTART;TZID=America/New_York:20250507T180000
DTEND;TZID=America/New_York:20250507T200000
DTSTAMP:20260422T163903
CREATED:20250319T195318Z
LAST-MODIFIED:20250328T190710Z
UID:3279-1746640800-1746648000@maridon.org
SUMMARY:2025 Spring Film Series: Silence
DESCRIPTION:Wednesday\, May 7\, 2025 6:00 p.m.\nSilence\, R\nDirected by Martin Scorsese\, 2016\nPresented by Junko Yamamoto \nIn 1633\, Portuguese priests Sebastião Rodrigues and\nFrancisco Garupe travel to Japan to investigate the\nmysterious silence of their mentor\, Father Ferreira\,\namid brutal anti-Christian purges. As they witness the\npersecution of Japanese Christians\, Rodrigues faces a\nharrowing choice—renounce his faith or condemn others to\nsuffering. \nAll film viewings will at the Maridon Museum\, 322 North McKean St.\, Butler\, PA. Free to the public. Donations welcome. \nReservations are required. Call 724.282.0123 to register now!\n \nClick here to download the film flyer. \n 
URL:https://maridon.org/event/2025-spring-film-series-silence/
LOCATION:The Maridon Museum\, 322 North McKean St.\, Butler\, PA 16001\, Butler\, PA\, 16001\, United States
CATEGORIES:Museum Events
END:VEVENT
BEGIN:VEVENT
DTSTART;TZID=America/New_York:20250510T123000
DTEND;TZID=America/New_York:20250510T143000
DTSTAMP:20260422T163903
CREATED:20250319T200301Z
LAST-MODIFIED:20250509T233652Z
UID:3284-1746880200-1746887400@maridon.org
SUMMARY:Rescheduled: 2025 Spring Film Series: Lagaan
DESCRIPTION:If you couldn’t make it to our screening of Lagaan\, you’re in luck — the event is being rescheduled! We’ll announce the new date soon\, and we hope you’ll join us for this epic film as part of our Spring Film Series.\n\nLagaan\, PG\nDirected by Ashutosh Gowariker\, 2001\nPresented by Dr. Ken Harris SRU Emeritus \nThis is a story of Indian resilience under British rule. When\nthe oppressive Lagaan tax is doubled\, Bhuvan leads his\nfellow villagers in a bold challenge—defeating the British in\na game of cricket they’ve never played before. \nAll film viewings will at the Maridon Museum\, 322 North McKean St.\, Butler\, PA. Free to the public. Donations welcome. \nReservations are required. Call 724.282.0123 to register now!\n \nClick here to download the film flyer. \n 
URL:https://maridon.org/event/2025-spring-film-series-lagaan/
LOCATION:The Maridon Museum\, 322 North McKean St.\, Butler\, PA 16001\, Butler\, PA\, 16001\, United States
CATEGORIES:Museum Events
END:VEVENT
BEGIN:VEVENT
DTSTART;TZID=America/New_York:20250521T180000
DTEND;TZID=America/New_York:20250521T200000
DTSTAMP:20260422T163903
CREATED:20250319T194821Z
LAST-MODIFIED:20250513T013045Z
UID:3273-1747850400-1747857600@maridon.org
SUMMARY:2025 Spring Film Series: The Joy Luck Club
DESCRIPTION:Wednesday\, May 21\, 2025 6:00 p.m.\nThe Joy Luck Club\, R\nDirected by Wayne Wang\, 1993\nPresented by Dr. Jialing Wang SRU \nThrough a series of flashbacks\, four young Chinese women\nborn in America and their respective mothers born in\nfeudal China\, explore their past. This search will help them\nunderstand their difficult mother/daughter relationship. \nAll film viewings will at the Maridon Museum\, 322 North McKean St.\, Butler\, PA. Free to the public. Donations welcome. \nReservations are required. Call 724.282.0123 to register now!\n \nClick here to download the film flyer. \n 
URL:https://maridon.org/event/2025-spring-film-series-the-joy-luck-club/
LOCATION:The Maridon Museum\, 322 North McKean St.\, Butler\, PA 16001\, Butler\, PA\, 16001\, United States
CATEGORIES:Museum Events
END:VEVENT
BEGIN:VEVENT
DTSTART;TZID=America/New_York:20250529T150000
DTEND;TZID=America/New_York:20250529T160000
DTSTAMP:20260422T163903
CREATED:20250120T214942Z
LAST-MODIFIED:20250120T214942Z
UID:3138-1748530800-1748534400@maridon.org
SUMMARY:May Book Club: Our Missing Hearts by Celeste Ng
DESCRIPTION:3:00 p.m.\, Thursday\, May 29\, 2025\nOur Missing Hearts by Celeste Ng\n \nDownload the complete book club flyer. \n“Our Missing Hearts” by Celeste Ng is a dystopian novel set in a near-future America where anti-Asian sentiment has led to the suppression of Asian-American culture and the forced relocation of children deemed a threat to national security. Twelve-year-old Bird\, whose mother is a renowned poet\, embarks on a perilous journey to find her after she mysteriously disappears. Bird is guided only by cryptic clues and the enduring power of stories in a world that seeks to erase them. \nPlease join us for all our upcoming in-person Book Club meetings. We will also offer Zoom platform meetings for those who are not comfortable meeting in person at this time. \nTo register\, or if you have questions\, please call 724-282-0123 or email info@maridon.org.
URL:https://maridon.org/event/may-book-club-our-missing-hearts-by-celeste-ng/
LOCATION:The Maridon Museum\, 322 North McKean St.\, Butler\, PA 16001\, Butler\, PA\, 16001\, United States
CATEGORIES:Museum Events
END:VEVENT
END:VCALENDAR