BEGIN:VCALENDAR
VERSION:2.0
PRODID:-//The Maridon Museum - ECPv6.15.17//NONSGML v1.0//EN
CALSCALE:GREGORIAN
METHOD:PUBLISH
X-WR-CALNAME:The Maridon Museum
X-ORIGINAL-URL:https://maridon.org
X-WR-CALDESC:Events for The Maridon Museum
REFRESH-INTERVAL;VALUE=DURATION:PT1H
X-Robots-Tag:noindex
X-PUBLISHED-TTL:PT1H
BEGIN:VTIMEZONE
TZID:America/New_York
BEGIN:DAYLIGHT
TZOFFSETFROM:-0500
TZOFFSETTO:-0400
TZNAME:EDT
DTSTART:20210314T070000
END:DAYLIGHT
BEGIN:STANDARD
TZOFFSETFROM:-0400
TZOFFSETTO:-0500
TZNAME:EST
DTSTART:20211107T060000
END:STANDARD
BEGIN:DAYLIGHT
TZOFFSETFROM:-0500
TZOFFSETTO:-0400
TZNAME:EDT
DTSTART:20220313T070000
END:DAYLIGHT
BEGIN:STANDARD
TZOFFSETFROM:-0400
TZOFFSETTO:-0500
TZNAME:EST
DTSTART:20221106T060000
END:STANDARD
BEGIN:DAYLIGHT
TZOFFSETFROM:-0500
TZOFFSETTO:-0400
TZNAME:EDT
DTSTART:20230312T070000
END:DAYLIGHT
BEGIN:STANDARD
TZOFFSETFROM:-0400
TZOFFSETTO:-0500
TZNAME:EST
DTSTART:20231105T060000
END:STANDARD
END:VTIMEZONE
BEGIN:VEVENT
DTSTART;TZID=America/New_York:20220428T150000
DTEND;TZID=America/New_York:20220428T160000
DTSTAMP:20260420T034454
CREATED:20220218T001927Z
LAST-MODIFIED:20220228T162459Z
UID:1677-1651158000-1651161600@maridon.org
SUMMARY:April Book Club: Murder in Old Bombay by Nev March
DESCRIPTION:3:00 p.m.\, Thursday\, April 28\, 2022\nMurder in Old Bombay by Nev March\n \nIn 1892\, Bombay is the center of British India. Nearby\, Capt. Jim Agnihotri lies in Poona military hospital recovering from a skirmish on the wild northern frontier\, with little to do but re-read the tales of his idol\, Sherlock Holmes\, and browse the daily papers. The case that catches Captain Jim’s attention is being called the crime of the century: Two women fell from the busy university’s clock tower in broad daylight. Moved by Adi\, the widower of one of the victims — his certainty that his wife and sister did not commit suicide — Captain Jim approaches the Parsee family and is hired to investigate what happened that terrible afternoon. \nBased on a true story\, and set against the vibrant backdrop of colonial India\, Nev March’s Minotaur Books/Mystery Writers of America First Crime Novel Award-winning lyrical debut\, Murder in Old Bombay\, brings this tumultuous historical age to life. \nPlease join us for all our upcoming in-person Book Club meetings. We also will offer Zoom platform meetings for those not comfortable meeting in person at this time. \nClick here to download the flyer for all the book club meetings. To register\, or if you have questions\, please call 724-282-0123 or email info@maridon.org. \n  \n 
URL:https://maridon.org/event/april-book-club-murder-in-old-bombay-by-nev-march/
LOCATION:The Maridon Museum\, 322 North McKean St.\, Butler\, PA 16001\, Butler\, PA\, 16001\, United States
CATEGORIES:Museum Events
END:VEVENT
BEGIN:VEVENT
DTSTART;TZID=America/New_York:20220428T180000
DTEND;TZID=America/New_York:20220428T190000
DTSTAMP:20260420T034454
CREATED:20211130T125508Z
LAST-MODIFIED:20220127T200919Z
UID:1606-1651168800-1651172400@maridon.org
SUMMARY:Dharma Talk & Meditation
DESCRIPTION:The Maridon\nOn the 2nd and 3rd Thursday of each month\, we offer a Buddhist Dharma talk and meditation from 6:00 p.m. to 7:00 p.m. at The Maridon. Donations are welcome. All proceeds benefit The Maridon Museum. \nHolly Pointe\, Main Street\nOn the 4th Thursday of each month\, we offer Zen instruction by Roshi Cynthia Marshall from 6:00 p.m. to 7:00 p.m. in the large first-floor room at Holly Pointe. \nFor all three Thursday events\, we also offer Zoom access. Please call 724.679.6008. \nClick here to download the flyer.\nThe Butler Buddhist meditation group will host and support beginning practitioners of meditation\, which has proven to be beneficial for those suffering stress\, anger\, and general emotional strife. \nCall 724.282.0123 to register now!
URL:https://maridon.org/event/dharma-talk-meditation-64/
LOCATION:PA
CATEGORIES:Museum Events
END:VEVENT
END:VCALENDAR