BEGIN:VCALENDAR
VERSION:2.0
PRODID:-//The Maridon Museum - ECPv6.15.17//NONSGML v1.0//EN
CALSCALE:GREGORIAN
METHOD:PUBLISH
X-WR-CALNAME:The Maridon Museum
X-ORIGINAL-URL:https://maridon.org
X-WR-CALDESC:Events for The Maridon Museum
REFRESH-INTERVAL;VALUE=DURATION:PT1H
X-Robots-Tag:noindex
X-PUBLISHED-TTL:PT1H
BEGIN:VTIMEZONE
TZID:America/New_York
BEGIN:DAYLIGHT
TZOFFSETFROM:-0500
TZOFFSETTO:-0400
TZNAME:EDT
DTSTART:20250309T070000
END:DAYLIGHT
BEGIN:STANDARD
TZOFFSETFROM:-0400
TZOFFSETTO:-0500
TZNAME:EST
DTSTART:20251102T060000
END:STANDARD
BEGIN:DAYLIGHT
TZOFFSETFROM:-0500
TZOFFSETTO:-0400
TZNAME:EDT
DTSTART:20260308T070000
END:DAYLIGHT
BEGIN:STANDARD
TZOFFSETFROM:-0400
TZOFFSETTO:-0500
TZNAME:EST
DTSTART:20261101T060000
END:STANDARD
BEGIN:DAYLIGHT
TZOFFSETFROM:-0500
TZOFFSETTO:-0400
TZNAME:EDT
DTSTART:20270314T070000
END:DAYLIGHT
BEGIN:STANDARD
TZOFFSETFROM:-0400
TZOFFSETTO:-0500
TZNAME:EST
DTSTART:20271107T060000
END:STANDARD
END:VTIMEZONE
BEGIN:VEVENT
DTSTART;TZID=America/New_York:20260326T150000
DTEND;TZID=America/New_York:20260326T160000
DTSTAMP:20260421T183424
CREATED:20251129T125615Z
LAST-MODIFIED:20251129T133213Z
UID:3516-1774537200-1774540800@maridon.org
SUMMARY:March Book Club: In Order to Live: A North Korean  Girl’s Journey to Freedom by Yeonmi Park
DESCRIPTION:3:00 p.m.\, Thursday\, March 26\, 2026\nIn Order to Live: A North Korean Girl’s Journey to Freedom by Yeonmi Park\n \nDownload the complete book club flyer. \nIn Order to Live: A North Korean Girl’s Journey to Freedom by Yeonmi Park is a memoir that recounts her life under the repressive North Korean regime\, her escape at age thirteen\, and the harrowing journey through China and Mongolia to reach freedom. Park describes the brutality\, starvation\, and control she experienced growing up\, as well as the dangers of human trafficking she faced after fleeing. Through her story\, she reflects on identity\, survival\, and the courage it takes to reclaim one’s life. The book is both a personal testimony and a powerful reminder of the resilience of the human spirit. \nPlease join us for all our upcoming in-person Book Club meetings. To register\, or if you have questions\, please call 724-282-0123 or email info@maridon.org.
URL:https://maridon.org/event/jan-book-club-if-cats-disappeared-from-the-world-by-genki-kawamura/
LOCATION:The Maridon Museum\, 322 North McKean St.\, Butler\, PA 16001\, Butler\, PA\, 16001\, United States
CATEGORIES:Museum Events
END:VEVENT
END:VCALENDAR