BEGIN:VCALENDAR
VERSION:2.0
PRODID:-//The Maridon Museum - ECPv6.15.17//NONSGML v1.0//EN
CALSCALE:GREGORIAN
METHOD:PUBLISH
X-WR-CALNAME:The Maridon Museum
X-ORIGINAL-URL:https://maridon.org
X-WR-CALDESC:Events for The Maridon Museum
REFRESH-INTERVAL;VALUE=DURATION:PT1H
X-Robots-Tag:noindex
X-PUBLISHED-TTL:PT1H
BEGIN:VTIMEZONE
TZID:America/New_York
BEGIN:DAYLIGHT
TZOFFSETFROM:-0500
TZOFFSETTO:-0400
TZNAME:EDT
DTSTART:20230312T070000
END:DAYLIGHT
BEGIN:STANDARD
TZOFFSETFROM:-0400
TZOFFSETTO:-0500
TZNAME:EST
DTSTART:20231105T060000
END:STANDARD
BEGIN:DAYLIGHT
TZOFFSETFROM:-0500
TZOFFSETTO:-0400
TZNAME:EDT
DTSTART:20240310T070000
END:DAYLIGHT
BEGIN:STANDARD
TZOFFSETFROM:-0400
TZOFFSETTO:-0500
TZNAME:EST
DTSTART:20241103T060000
END:STANDARD
BEGIN:DAYLIGHT
TZOFFSETFROM:-0500
TZOFFSETTO:-0400
TZNAME:EDT
DTSTART:20250309T070000
END:DAYLIGHT
BEGIN:STANDARD
TZOFFSETFROM:-0400
TZOFFSETTO:-0500
TZNAME:EST
DTSTART:20251102T060000
END:STANDARD
END:VTIMEZONE
BEGIN:VEVENT
DTSTART;TZID=America/New_York:20241107T180000
DTEND;TZID=America/New_York:20241107T180000
DTSTAMP:20260423T074528
CREATED:20241007T204004Z
LAST-MODIFIED:20241007T204417Z
UID:3036-1731002400-1731002400@maridon.org
SUMMARY:Movie Night: Leap
DESCRIPTION:Thursday\, November 7\, 2024 • 6PM\n(China\, 2020) 2 hr 15 m NR • by Dr. Wei Bian \nJoin us for a screening of  Leap on Thursday\, November 7\, 2024 at 6 PM. The film chronicles the journey of the Chinese women’s volleyball team\, from their historic win at the 1981 World Championship to the intense rivalry with Brazil at the 2016 Rio Olympics. It explores the unwavering spirit and resilience of generations of Chinese women volleyball players who have faced countless challenges but never surrendered. \nReservations required. Please call 724.282.0123 \nClick here to download flyer.
URL:https://maridon.org/event/movie-night-leap/
LOCATION:PA
END:VEVENT
END:VCALENDAR