BEGIN:VCALENDAR
VERSION:2.0
PRODID:-//The Maridon Museum - ECPv6.15.17//NONSGML v1.0//EN
CALSCALE:GREGORIAN
METHOD:PUBLISH
X-WR-CALNAME:The Maridon Museum
X-ORIGINAL-URL:https://maridon.org
X-WR-CALDESC:Events for The Maridon Museum
REFRESH-INTERVAL;VALUE=DURATION:PT1H
X-Robots-Tag:noindex
X-PUBLISHED-TTL:PT1H
BEGIN:VTIMEZONE
TZID:America/New_York
BEGIN:DAYLIGHT
TZOFFSETFROM:-0500
TZOFFSETTO:-0400
TZNAME:EDT
DTSTART:20230312T070000
END:DAYLIGHT
BEGIN:STANDARD
TZOFFSETFROM:-0400
TZOFFSETTO:-0500
TZNAME:EST
DTSTART:20231105T060000
END:STANDARD
BEGIN:DAYLIGHT
TZOFFSETFROM:-0500
TZOFFSETTO:-0400
TZNAME:EDT
DTSTART:20240310T070000
END:DAYLIGHT
BEGIN:STANDARD
TZOFFSETFROM:-0400
TZOFFSETTO:-0500
TZNAME:EST
DTSTART:20241103T060000
END:STANDARD
BEGIN:DAYLIGHT
TZOFFSETFROM:-0500
TZOFFSETTO:-0400
TZNAME:EDT
DTSTART:20250309T070000
END:DAYLIGHT
BEGIN:STANDARD
TZOFFSETFROM:-0400
TZOFFSETTO:-0500
TZNAME:EST
DTSTART:20251102T060000
END:STANDARD
END:VTIMEZONE
BEGIN:VEVENT
DTSTART;TZID=America/New_York:20241031T150000
DTEND;TZID=America/New_York:20241031T160000
DTSTAMP:20260423T074528
CREATED:20240713T140424Z
LAST-MODIFIED:20240713T140424Z
UID:2944-1730386800-1730390400@maridon.org
SUMMARY:October Book Club: Beasts of a Little Land by Juhea Kim
DESCRIPTION:3:00 p.m.\, Thursday\, October 31\, 2024\nBeasts of a Little Land by Juhea Kim\n \nDownload the complete book club flyer. \nDive into a sweeping historical saga set against the backdrop of 20th-century Korea. “Beasts of a Little Land” by Juhea Kim intertwines the fates of two young people from opposite worlds. In 1917\, a hunter saves a Japanese officer\, setting off a chain of events that spans decades. Meanwhile\, a young girl named Jade is sold into servitude at a courtesan school. As Jade becomes a sought-after performer and JungHo\, an orphan boy\, fights for Korea’s independence\, their paths converge. From opulent courtesan houses to battlefields\, witness their choices and sacrifices in a world of shifting loyalties\, where survival hinges on forging your destiny. \nPlease join us for all our upcoming in-person Book Club meetings. We will also offer Zoom platform meetings for those who are not comfortable meeting in person at this time. \nTo register\, or if you have questions\, please call 724-282-0123 or email info@maridon.org.
URL:https://maridon.org/event/october-book-club-beasts-of-a-little-land-by-juhea-kim/
LOCATION:The Maridon Museum\, 322 North McKean St.\, Butler\, PA 16001\, Butler\, PA\, 16001\, United States
CATEGORIES:Museum Events
END:VEVENT
END:VCALENDAR