BEGIN:VCALENDAR
VERSION:2.0
PRODID:-//The Maridon Museum - ECPv6.15.17//NONSGML v1.0//EN
CALSCALE:GREGORIAN
METHOD:PUBLISH
X-ORIGINAL-URL:https://maridon.org
X-WR-CALDESC:Events for The Maridon Museum
REFRESH-INTERVAL;VALUE=DURATION:PT1H
X-Robots-Tag:noindex
X-PUBLISHED-TTL:PT1H
BEGIN:VTIMEZONE
TZID:America/New_York
BEGIN:DAYLIGHT
TZOFFSETFROM:-0500
TZOFFSETTO:-0400
TZNAME:EDT
DTSTART:20200308T070000
END:DAYLIGHT
BEGIN:STANDARD
TZOFFSETFROM:-0400
TZOFFSETTO:-0500
TZNAME:EST
DTSTART:20201101T060000
END:STANDARD
BEGIN:DAYLIGHT
TZOFFSETFROM:-0500
TZOFFSETTO:-0400
TZNAME:EDT
DTSTART:20210314T070000
END:DAYLIGHT
BEGIN:STANDARD
TZOFFSETFROM:-0400
TZOFFSETTO:-0500
TZNAME:EST
DTSTART:20211107T060000
END:STANDARD
BEGIN:DAYLIGHT
TZOFFSETFROM:-0500
TZOFFSETTO:-0400
TZNAME:EDT
DTSTART:20220313T070000
END:DAYLIGHT
BEGIN:STANDARD
TZOFFSETFROM:-0400
TZOFFSETTO:-0500
TZNAME:EST
DTSTART:20221106T060000
END:STANDARD
END:VTIMEZONE
BEGIN:VEVENT
DTSTART;TZID=America/New_York:20210926T170000
DTEND;TZID=America/New_York:20210926T210000
DTSTAMP:20260422T062244
CREATED:20210813T163446Z
LAST-MODIFIED:20210924T150642Z
UID:1475-1632675600-1632690000@maridon.org
SUMMARY:Celebrate The Maridon Museum and the Harvest Moon
DESCRIPTION:The Maridon Museum Board of Trustees cordially invites you to Celebrate The Maridon and the Harvest Moon\nDoors Open/Hors D’oeuvres: 5:00 p.m. | Dinner: 6:30 p.m. | Entertainment/Michael Carluccio: 8:00 p.m.\nThe Maridon Museum celebrates the Asian Harvest Moon Festival with a dinner\, entertainment\, and a basket raffle. This year\, The Maridon will honor two of our founding members\, Janice & Harold Larrick\, who have been steadfast patrons of the Maridon since its inception in 2004. The evening promises a lovely dinner partnered with Michael Carluccio\, a rat-pack style singer. Attendees will be able to participate in a basket raffle and a silent auction of items from the Mary Hulton Phillips collection. All proceeds benefit The Maridon Museum. \n\n$100/Person if made by Sept. 15th\, or $125/Person after\nBlack tie is optional\n\nRegister Now! \nProceeds benefit The Maridon Museum. Questions? Please call 724.282.0123.
URL:https://maridon.org/event/festival/
LOCATION:The Butler Country Club\, 310 Country Club Road\, Butler\, PA\, 16001\, United States
CATEGORIES:Museum Events
END:VEVENT
END:VCALENDAR